BEGIN:VCALENDAR
VERSION:2.0
PRODID:-//Department Of Education//40675fca-a33c-413f-9ee4-2bf667319251
BEGIN:VTIMEZONE
TZID:Australia/Sydney
TZURL:http://tzurl.org/zoneinfo-outlook/Australia/Sydney
X-LIC-LOCATION:Australia/Sydney
BEGIN:STANDARD
TZOFFSETFROM:+1100
TZOFFSETTO:+1000
TZNAME:AEST
DTSTART:19700405T030000
RRULE:FREQ=YEARLY;BYMONTH=4;BYDAY=1SU
END:STANDARD
BEGIN:DAYLIGHT
TZOFFSETFROM:+1000
TZOFFSETTO:+1100
TZNAME:AEDT
DTSTART:19701004T020000
RRULE:FREQ=YEARLY;BYMONTH=10;BYDAY=1SU
END:DAYLIGHT
END:VTIMEZONE
CALSCALE:GREGORIAN
X-WR-TIMEZONE:Australia/Sydney
BEGIN:VEVENT
DTSTART;VALUE=DATE:20200604
DTEND;VALUE=DATE:20200605
DTSTAMP:20200604T000000Z
UID:ceed5848-e693-4b56-92ea-246a7cc17c8b
LOCATION:Sydney
SUMMARY;LANGUAGE=en-us:Sydney Excursion
SEQUENCE:0
DESCRIPTION:K-2 will be travelling by bus to visit the Australian National Maritime Museum and NSW State Library. Click here for note
END:VEVENT
TRANSP:TRANSPARENT
END:VCALENDAR
