BEGIN:VCALENDAR
VERSION:2.0
PRODID:-//Department Of Education//fdf9f5aa-72c2-4427-9a4d-1d43e3514477
BEGIN:VTIMEZONE
TZID:Australia/Sydney
TZURL:http://tzurl.org/zoneinfo-outlook/Australia/Sydney
X-LIC-LOCATION:Australia/Sydney
BEGIN:STANDARD
TZOFFSETFROM:+1100
TZOFFSETTO:+1000
TZNAME:AEST
DTSTART:19700405T030000
RRULE:FREQ=YEARLY;BYMONTH=4;BYDAY=1SU
END:STANDARD
BEGIN:DAYLIGHT
TZOFFSETFROM:+1000
TZOFFSETTO:+1100
TZNAME:AEDT
DTSTART:19701004T020000
RRULE:FREQ=YEARLY;BYMONTH=10;BYDAY=1SU
END:DAYLIGHT
END:VTIMEZONE
CALSCALE:GREGORIAN
X-WR-TIMEZONE:Australia/Sydney
BEGIN:VEVENT
DTSTART;VALUE=DATE:20200401
DTEND;VALUE=DATE:20200402
DTSTAMP:20200401T000000Z
UID:4a372102-4601-4a39-87c5-e3cfb0fe10ab
LOCATION:Moss Vale High School
SUMMARY;LANGUAGE=en-us:Matilda the Musical
SEQUENCE:0
DESCRIPTION:Students in Years 3-6 will visit Moss Vale High School to watch a performance of Roald Dahl's Matilda the Musical. Click here for note
END:VEVENT
TRANSP:TRANSPARENT
END:VCALENDAR
