BEGIN:VCALENDAR
VERSION:2.0
PRODID:-//Department Of Education//fd6b220c-44eb-410d-8d48-95c495878733
BEGIN:VTIMEZONE
TZID:Australia/Sydney
TZURL:http://tzurl.org/zoneinfo-outlook/Australia/Sydney
X-LIC-LOCATION:Australia/Sydney
BEGIN:STANDARD
TZOFFSETFROM:+1100
TZOFFSETTO:+1000
TZNAME:AEST
DTSTART:19700405T030000
RRULE:FREQ=YEARLY;BYMONTH=4;BYDAY=1SU
END:STANDARD
BEGIN:DAYLIGHT
TZOFFSETFROM:+1000
TZOFFSETTO:+1100
TZNAME:AEDT
DTSTART:19701004T020000
RRULE:FREQ=YEARLY;BYMONTH=10;BYDAY=1SU
END:DAYLIGHT
END:VTIMEZONE
CALSCALE:GREGORIAN
X-WR-TIMEZONE:Australia/Sydney
BEGIN:VEVENT
DTSTART;VALUE=DATE:20200313
DTEND;VALUE=DATE:20200314
DTSTAMP:20200313T000000Z
UID:14d2edfc-f670-4205-9001-5dc321cee8bb
LOCATION:Robertson
SUMMARY;LANGUAGE=en-us:Robertson Show
SEQUENCE:0
DESCRIPTION:K-2 students will be attending the Robertson Show  Click here for the note.
END:VEVENT
TRANSP:TRANSPARENT
END:VCALENDAR
